BEGIN:VCALENDAR
VERSION:2.0
PRODID:SchoolNow
CALSCALE:GREGORIAN
BEGIN:VEVENT
UID:0231ea10-3eca-11ef-b6ad-0affdebb0933
DTSTAMP:20240710T143801Z
SUMMARY:Board Workshop
LOCATION:District Office\, 235 Sunset Avenue
URL;VALUE=URI:https://www.wenatcheeschools.org/district-calendars/calendar/
 6242157/board-workshop-clone
DTSTART:20240916T200000Z
DTEND:20240916T210000Z
END:VEVENT
END:VCALENDAR
