BEGIN:VCALENDAR
VERSION:2.0
PRODID:SchoolNow
CALSCALE:GREGORIAN
BEGIN:VEVENT
UID:1ba9a26c-3eca-11ef-817b-0e79aae2087f
DTSTAMP:20240710T143844Z
SUMMARY:Board Workshop
LOCATION:District Office\, 235 Sunset Avenue
URL;VALUE=URI:https://www.wenatcheeschools.org/district-calendars/calendar/
 6242159/board-workshop-clone
DTSTART:20241118T210000Z
DTEND:20241118T220000Z
END:VEVENT
END:VCALENDAR
