BEGIN:VCALENDAR
VERSION:2.0
PRODID:SchoolNow
CALSCALE:GREGORIAN
BEGIN:VEVENT
UID:24379736-3eca-11ef-b3bb-0ed0a03c07c9
DTSTAMP:20240710T143858Z
SUMMARY:Board Workshop
LOCATION:District Office\, 235 Sunset Avenue
URL;VALUE=URI:https://www.wenatcheeschools.org/district-calendars/calendar/
 6242160/board-workshop-clone
DTSTART:20250127T210000Z
DTEND:20250127T220000Z
END:VEVENT
END:VCALENDAR
