BEGIN:VCALENDAR
VERSION:2.0
PRODID:SchoolNow
CALSCALE:GREGORIAN
BEGIN:VEVENT
UID:377f0554-3eca-11ef-b050-0a58a9feac02
DTSTAMP:20240710T143930Z
SUMMARY:Board Workshop
LOCATION:District Office\, 235 Sunset Avenue
URL;VALUE=URI:https://www.wenatcheeschools.org/district-calendars/calendar/
 6242162/board-workshop-clone
DTSTART:20250317T200000Z
DTEND:20250317T210000Z
END:VEVENT
END:VCALENDAR
