BEGIN:VCALENDAR
VERSION:2.0
PRODID:SchoolNow
CALSCALE:GREGORIAN
BEGIN:VEVENT
UID:4191d03a-3eca-11ef-9f08-0ed0a03c07c9
DTSTAMP:20240710T143947Z
SUMMARY:Board Workshop
LOCATION:District Office\, 235 Sunset Avenue
URL;VALUE=URI:https://www.wenatcheeschools.org/district-calendars/calendar/
 6242163/board-workshop-clone
DTSTART:20250421T200000Z
DTEND:20250421T210000Z
END:VEVENT
END:VCALENDAR
