BEGIN:VCALENDAR
VERSION:2.0
PRODID:SchoolNow
CALSCALE:GREGORIAN
BEGIN:VEVENT
UID:684bb196-3eca-11ef-8965-0ecd12c63423
DTSTAMP:20240710T144052Z
SUMMARY:Special Board Meeting
LOCATION:District Office\, 235 Sunset Avenue
URL;VALUE=URI:https://www.wenatcheeschools.org/district-calendars/calendar/
 6242164/board-meeting-clone
DTSTART:20240814T010000Z
DTEND:20240814T020000Z
END:VEVENT
END:VCALENDAR
