BEGIN:VCALENDAR
VERSION:2.0
PRODID:SchoolNow
CALSCALE:GREGORIAN
BEGIN:VEVENT
UID:8127bcee-54f7-11ef-b52f-0a58a9feac02
DTSTAMP:20240807T195907Z
SUMMARY:Opening Day
LOCATION:Wenatchee High School
URL;VALUE=URI:https://www.wenatcheeschools.org/district-calendars/calendar/
 6367562/opening-day
DTSTART:20240820T143000Z
DTEND:20240820T163000Z
END:VEVENT
END:VCALENDAR
