BEGIN:VCALENDAR
VERSION:2.0
PRODID:SchoolNow
CALSCALE:GREGORIAN
BEGIN:VEVENT
UID:f072b8cc-63ae-11ef-b6e9-0affe5c5af29
DTSTAMP:20240826T132728Z
SUMMARY:Special Education Para Job Fair
LOCATION:Wenatchee School District Office\, 235 Sunset Ave
URL;VALUE=URI:https://www.wenatcheeschools.org/district-calendars/calendar/
 6461698/special-education-para-job-fair
DTSTART:20240903T220000Z
DTEND:20240904T020000Z
END:VEVENT
END:VCALENDAR
