BEGIN:VCALENDAR
VERSION:2.0
PRODID:SchoolNow
CALSCALE:GREGORIAN
BEGIN:VEVENT
UID:e3407876-79af-11ef-a486-0a58a9feac02
DTSTAMP:20240923T132941Z
SUMMARY:Flu Shot Clinic - Staff and Families
LOCATION:Washington Elementary Gym
URL;VALUE=URI:https://www.wenatcheeschools.org/district-calendars/calendar/
 6670668/flu-shot-clinic-staff-and-families
DTSTART:20240924T214500Z
DTEND:20240924T231500Z
ATTACH;FILENAME=WalmartConsent.pdf;FMTTYPE=application/pdf:https://campussu
 ite-storage.s3.amazonaws.com/prod/3059/7610d33a-0c90-11e6-b537-22000bd8490
 f/2850436/d100dd86-79af-11ef-acd6-0a58a9feac02/file/WalmartConsent.pdf
END:VEVENT
END:VCALENDAR
