BEGIN:VCALENDAR
VERSION:2.0
PRODID:SchoolNow
CALSCALE:GREGORIAN
BEGIN:VEVENT
UID:fdbdb394-79af-11ef-9611-0a58a9feac02
DTSTAMP:20240923T133025Z
SUMMARY:Flu Shot Clinic - Staff and Families
LOCATION:Wenatchee High School\, Counseling Offices
URL;VALUE=URI:https://www.wenatcheeschools.org/district-calendars/calendar/
 6670669/flu-shot-clinic-staff-and-families-clone
DTSTART:20241015T224500Z
DTEND:20241016T000000Z
ATTACH;FILENAME=WalmartConsent.pdf;FMTTYPE=application/pdf:https://campussu
 ite-storage.s3.amazonaws.com/prod/3059/7610d33a-0c90-11e6-b537-22000bd8490
 f/2850436/d100dd86-79af-11ef-acd6-0a58a9feac02/file/WalmartConsent.pdf
END:VEVENT
END:VCALENDAR
