BEGIN:VCALENDAR
VERSION:2.0
PRODID:SchoolNow
CALSCALE:GREGORIAN
BEGIN:VEVENT
UID:782d7996-f3a6-11ef-808c-028c56d2ff2d
DTSTAMP:20250328T203541Z
SUMMARY:Bus Driver Job Fair
LOCATION:1201 Millerdale Avenue\, Wenatchee
URL;VALUE=URI:https://www.wenatcheeschools.org/district-calendars/calendar/
 7548131/bus-driver-job-fair
DTSTART:20250329T160000Z
DTEND:20250329T190000Z
END:VEVENT
END:VCALENDAR
