BEGIN:VCALENDAR
VERSION:2.0
PRODID:SchoolNow
CALSCALE:GREGORIAN
BEGIN:VEVENT
UID:d5659e1e-04ee-11f0-b380-0a58a9feac02
DTSTAMP:20250320T171710Z
SUMMARY:Early Childhood Education Options Fair
LOCATION:District Office\, 235 Sunset Avenue
URL;VALUE=URI:https://www.wenatcheeschools.org/district-calendars/calendar/
 7723220/early-childhood-education-options-fair
DTSTART:20250418T003000Z
DTEND:20250418T023000Z
ATTACH;FILENAME=2024-25 Early Childhood  Education Options Fair.pdf;FMTTYPE
 =application/pdf:https://campussuite-storage.s3.amazonaws.com/prod/3059/76
 10d33a-0c90-11e6-b537-22000bd8490f/2930133/92831da4-05ae-11f0-9c69-0a58a9f
 eac02/file/2024-25 Early Childhood  Education Options Fair.pdf
END:VEVENT
END:VCALENDAR
