BEGIN:VCALENDAR
VERSION:2.0
PRODID:SchoolNow
CALSCALE:GREGORIAN
BEGIN:VEVENT
UID:ee669148-08cc-11f0-a6ee-0a58a9feac02
DTSTAMP:20250325T164229Z
SUMMARY:Special Board Meeting - Position #4 Interviews
LOCATION:District Office\, Main Board Room
URL;VALUE=URI:https://www.wenatcheeschools.org/district-calendars/calendar/
 7762794/special-board-meeting-position-4-interviews
DTSTART:20250404T000000Z
DTEND:20250404T020000Z
END:VEVENT
END:VCALENDAR
