BEGIN:VCALENDAR
VERSION:2.0
PRODID:SchoolNow
CALSCALE:GREGORIAN
BEGIN:VEVENT
UID:06ef5406-0fe0-11f0-8113-0affc7874bdd
DTSTAMP:20260421T075007Z
SUMMARY:Martin Luther King Day (No School)
URL;VALUE=URI:https://www.wenatcheeschools.org/district-calendars/calendar/
 7833278/martin-luther-king-day-no-school
DTSTART;VALUE=DATE:20260119
DTEND;VALUE=DATE:20260120
END:VEVENT
END:VCALENDAR
