BEGIN:VCALENDAR
VERSION:2.0
PRODID:SchoolNow
CALSCALE:GREGORIAN
BEGIN:VEVENT
UID:06ef5500-0fe0-11f0-a4ea-0affc7874bdd
DTSTAMP:20260421T075007Z
SUMMARY:Record Day (No School)
URL;VALUE=URI:https://www.wenatcheeschools.org/district-calendars/calendar/
 7833279/record-day-no-school
DTSTART;VALUE=DATE:20260123
DTEND;VALUE=DATE:20260124
END:VEVENT
END:VCALENDAR
