BEGIN:VCALENDAR
VERSION:2.0
PRODID:SchoolNow
CALSCALE:GREGORIAN
BEGIN:VEVENT
UID:06ef55fa-0fe0-11f0-84bf-0affc7874bdd
DTSTAMP:20260421T075006Z
SUMMARY:PD Day (No School) Principal/District Directed
URL;VALUE=URI:https://www.wenatcheeschools.org/district-calendars/calendar/
 7833280/pd-day-no-school-principal-district-directed
DTSTART;VALUE=DATE:20260206
DTEND;VALUE=DATE:20260207
END:VEVENT
END:VCALENDAR
