BEGIN:VCALENDAR
VERSION:2.0
PRODID:SchoolNow
CALSCALE:GREGORIAN
BEGIN:VEVENT
UID:06ef58ac-0fe0-11f0-8dcf-0affc7874bdd
DTSTAMP:20260421T075007Z
SUMMARY:Spring Parent/Teacher Conferences (No School)
URL;VALUE=URI:https://www.wenatcheeschools.org/district-calendars/calendar/
 7833283/spring-parent-teacher-conferences-no-school
DTSTART;VALUE=DATE:20260320
DTEND;VALUE=DATE:20260321
END:VEVENT
END:VCALENDAR
