BEGIN:VCALENDAR
VERSION:2.0
PRODID:SchoolNow
CALSCALE:GREGORIAN
BEGIN:VEVENT
UID:06ef5a6e-0fe0-11f0-bf06-0affc7874bdd
DTSTAMP:20260424T205006Z
SUMMARY:Non Contract Day - (No School)
URL;VALUE=URI:https://www.wenatcheeschools.org/district-calendars/calendar/
 7833285/non-contract-day-no-school
DTSTART;VALUE=DATE:20260501
DTEND;VALUE=DATE:20260502
END:VEVENT
END:VCALENDAR
