BEGIN:VCALENDAR
VERSION:2.0
PRODID:SchoolNow
CALSCALE:GREGORIAN
BEGIN:VEVENT
UID:22d92c60-10cf-11f0-a31d-0e8ad9ecacbb
DTSTAMP:20250403T210347Z
SUMMARY:Wenatchee Jazz Workshop Pros Concert
LOCATION:Orchard Middle School
URL;VALUE=URI:https://www.wenatcheeschools.org/district-calendars/calendar/
 7843635/wenatchee-jazz-workshop-pros-concert
DTSTART:20250509T020000Z
DTEND:20250509T030000Z
END:VEVENT
END:VCALENDAR
