BEGIN:VCALENDAR
VERSION:2.0
PRODID:SchoolNow
CALSCALE:GREGORIAN
BEGIN:VEVENT
UID:571c088a-10cf-11f0-9116-0a58a9feac02
DTSTAMP:20250403T210515Z
SUMMARY:Wenatchee Jazz Workshop Student Concert
LOCATION:Wenatchee High School
URL;VALUE=URI:https://www.wenatcheeschools.org/district-calendars/calendar/
 7843637/wenatchee-jazz-workshop-student-concert
DTSTART:20250510T020000Z
DTEND:20250510T030000Z
END:VEVENT
END:VCALENDAR
