BEGIN:VCALENDAR
VERSION:2.0
PRODID:SchoolNow
CALSCALE:GREGORIAN
BEGIN:VEVENT
UID:8c92201a-1b17-11f0-b9cd-0a58a9feac02
DTSTAMP:20250416T230720Z
SUMMARY:Community Forum: Athletic and Activities Director
LOCATION:Wenatchee High School Commons
URL;VALUE=URI:https://www.wenatcheeschools.org/district-calendars/calendar/
 7942173/community-forum-athletic-and-activities-director
DTSTART:20250425T020000Z
DTEND:20250425T030000Z
END:VEVENT
END:VCALENDAR
