BEGIN:VCALENDAR
VERSION:2.0
PRODID:SchoolNow
CALSCALE:GREGORIAN
BEGIN:VEVENT
UID:fb0bba80-2b69-11f0-980c-0e3d3dcc421b
DTSTAMP:20250507T173743Z
SUMMARY:Retirement Celebration
LOCATION:District Office\, 235 Sunset Avenue
URL;VALUE=URI:https://www.wenatcheeschools.org/district-calendars/calendar/
 8085500/retirement-celebration
DTSTART:20250604T003000Z
DTEND:20250604T013000Z
END:VEVENT
END:VCALENDAR
