BEGIN:VCALENDAR
VERSION:2.0
PRODID:SchoolNow
CALSCALE:GREGORIAN
BEGIN:VEVENT
UID:15568050-46f9-11f0-a2c5-0a58a9feac02
DTSTAMP:20250611T192006Z
SUMMARY:Migrant Family Nights
LOCATION:WHS New Commons
URL;VALUE=URI:https://www.wenatcheeschools.org/district-calendars/calendar/
 8287957/migrant-family-nights
DTSTART:20251017T003000Z
DTEND:20251017T023000Z
END:VEVENT
END:VCALENDAR
