BEGIN:VCALENDAR
VERSION:2.0
PRODID:SchoolNow
CALSCALE:GREGORIAN
BEGIN:VEVENT
UID:4723efbe-46f9-11f0-b552-0e9989983943
DTSTAMP:20250611T192130Z
SUMMARY:Migrant Family Nights
LOCATION:WHS New Commons
URL;VALUE=URI:https://www.wenatcheeschools.org/district-calendars/calendar/
 8287958/migrant-family-nights-clone
DTSTART:20260130T013000Z
DTEND:20260130T033000Z
END:VEVENT
END:VCALENDAR
