BEGIN:VCALENDAR
VERSION:2.0
PRODID:SchoolNow
CALSCALE:GREGORIAN
BEGIN:VEVENT
UID:54f718dc-46f9-11f0-b04a-0affd0038d69
DTSTAMP:20250611T192153Z
SUMMARY:Migrant Family Nights
LOCATION:WHS New Commons
URL;VALUE=URI:https://www.wenatcheeschools.org/district-calendars/calendar/
 8287959/migrant-family-nights-clone
DTSTART:20260313T003000Z
DTEND:20260313T023000Z
END:VEVENT
END:VCALENDAR
