BEGIN:VCALENDAR
VERSION:2.0
PRODID:SchoolNow
CALSCALE:GREGORIAN
BEGIN:VEVENT
UID:a116f320-4ae3-11f0-9f9f-0a58a9feac02
DTSTAMP:20250913T232926Z
SUMMARY:Interagency Meeting - 9/9/25
LOCATION:WSD - Main Board Room
URL;VALUE=URI:https://www.wenatcheeschools.org/district-calendars/calendar/
 8311279/interagency-meeting-9-9-25
DTSTART:20250909T173000Z
DTEND:20250909T190000Z
END:VEVENT
END:VCALENDAR
