BEGIN:VCALENDAR
VERSION:2.0
PRODID:SchoolNow
CALSCALE:GREGORIAN
BEGIN:VEVENT
UID:af5efce8-4ae3-11f0-a0f2-0262e441cb45
DTSTAMP:20250913T233105Z
SUMMARY:Interagency Meeting - 10/14/25
LOCATION:WSD - Main Board Room
URL;VALUE=URI:https://www.wenatcheeschools.org/district-calendars/calendar/
 8311280/interagency-meeting-10-14-25
DTSTART:20251014T173000Z
DTEND:20251014T190000Z
END:VEVENT
END:VCALENDAR
