BEGIN:VCALENDAR
VERSION:2.0
PRODID:SchoolNow
CALSCALE:GREGORIAN
BEGIN:VEVENT
UID:ce93bf7c-4ae3-11f0-99f1-0ef924d70cdd
DTSTAMP:20250913T233027Z
SUMMARY:Interagency Meeting - 1/13/26
LOCATION:WSD - Main Board Room
URL;VALUE=URI:https://www.wenatcheeschools.org/district-calendars/calendar/
 8311284/interagency-meeting-1-13-26
DTSTART:20260113T183000Z
DTEND:20260113T200000Z
END:VEVENT
END:VCALENDAR
