BEGIN:VCALENDAR
VERSION:2.0
PRODID:SchoolNow
CALSCALE:GREGORIAN
BEGIN:VEVENT
UID:d89fd578-4ae3-11f0-8d5e-0a58a9feac02
DTSTAMP:20250913T232957Z
SUMMARY:Interagency Meeting - 2/10/26
LOCATION:WSD - Main Board Room
URL;VALUE=URI:https://www.wenatcheeschools.org/district-calendars/calendar/
 8311285/interagency-meeting-2-10-26
DTSTART:20260210T183000Z
DTEND:20260210T200000Z
END:VEVENT
END:VCALENDAR
