BEGIN:VCALENDAR
VERSION:2.0
PRODID:SchoolNow
CALSCALE:GREGORIAN
BEGIN:VEVENT
UID:e379d4d0-4ae3-11f0-8abf-0a58a9feac02
DTSTAMP:20250913T232945Z
SUMMARY:Interagency Meeting - 3/10/26
LOCATION:WSD - Main Board Room
URL;VALUE=URI:https://www.wenatcheeschools.org/district-calendars/calendar/
 8311287/interagency-meeting-3-10-26
DTSTART:20260310T173000Z
DTEND:20260310T190000Z
END:VEVENT
END:VCALENDAR
