BEGIN:VCALENDAR
VERSION:2.0
PRODID:SchoolNow
CALSCALE:GREGORIAN
BEGIN:VEVENT
UID:6dedd812-9005-11f0-86e8-0a58a9feac02
DTSTAMP:20250912T191144Z
SUMMARY:District Flu Shot Clinic for Staff and Families at Washington Eleme
 ntary
URL;VALUE=URI:https://www.wenatcheeschools.org/district-calendars/calendar/
 8615095/district-flu-shot-clinic-for-staff-and-families
DTSTART:20250925T213000Z
DTEND:20250925T233000Z
ATTACH;FILENAME=WalmartFluConsent.pdf;FMTTYPE=application/pdf:https://campu
 ssuite-storage.s3.amazonaws.com/prod/3059/7610d33a-0c90-11e6-b537-22000bd8
 490f/3006727/2a4aaad6-9005-11f0-899d-0eac18ed6063/file/WalmartFluConsent.p
 df
END:VEVENT
END:VCALENDAR
