BEGIN:VCALENDAR
VERSION:2.0
PRODID:SchoolNow
CALSCALE:GREGORIAN
BEGIN:VEVENT
UID:f91428a0-b0fe-11f0-8b32-0affda30926b
DTSTAMP:20251024T172919Z
SUMMARY:Board Meeting Rescheduled: Tuesday\, November 11\, 2025
URL;VALUE=URI:https://www.wenatcheeschools.org/district-calendars/calendar/
 8748256/board-meeting-rescheduled-tuesday-november-11-2025
DTSTART:20251111T182600Z
DTEND:20251111T192600Z
END:VEVENT
END:VCALENDAR
