BEGIN:VCALENDAR
VERSION:2.0
PRODID:SchoolNow
CALSCALE:GREGORIAN
BEGIN:VEVENT
UID:61701580-b0ff-11f0-b26e-0a58a9feac02
DTSTAMP:20251024T173214Z
SUMMARY:Reception for Director Martin Barron: Wednesday\, November 12\, 202
 5
LOCATION:District Office\, Main Board Room
URL;VALUE=URI:https://www.wenatcheeschools.org/district-calendars/calendar/
 8748257/reception-for-director-martin-barron-wednesday-november-12-2025
DTSTART:20251113T013000Z
DTEND:20251113T020000Z
END:VEVENT
END:VCALENDAR
