BEGIN:VCALENDAR
VERSION:2.0
PRODID:SchoolNow
CALSCALE:GREGORIAN
BEGIN:VEVENT
UID:c8d1c886-b0ff-11f0-b712-0e0a8f2dbe29
DTSTAMP:20251024T173508Z
SUMMARY:Board Meeting Rescheduled: Tuesday\, November 25\, 2025
URL;VALUE=URI:https://www.wenatcheeschools.org/district-calendars/calendar/
 8748258/board-meeting-rescheduled-tuesday-november-25-2025
DTSTART:20251125T183300Z
DTEND:20251125T193300Z
END:VEVENT
END:VCALENDAR
