BEGIN:VCALENDAR
VERSION:2.0
PRODID:SchoolNow
CALSCALE:GREGORIAN
BEGIN:VEVENT
UID:0d87cc46-b100-11f0-ac52-0ebca1ed02a9
DTSTAMP:20251024T173740Z
SUMMARY:Board Meeting Rescheduled: Tuesday\, December 9\, 2025
URL;VALUE=URI:https://www.wenatcheeschools.org/district-calendars/calendar/
 8748259/board-meeting-rescheduled-tuesday-december-9-2025
DTSTART:20251209T080000Z
DTEND:20251210T075900Z
END:VEVENT
END:VCALENDAR
