BEGIN:VCALENDAR
VERSION:2.0
PRODID:SchoolNow
CALSCALE:GREGORIAN
BEGIN:VEVENT
UID:2dce885e-f24c-11f0-910e-0afff1174013
DTSTAMP:20260115T195544Z
SUMMARY:All-Staff Mid Year Rally
LOCATION:WHS
URL;VALUE=URI:https://www.wenatcheeschools.org/district-calendars/calendar/
 8836792/all-staff-mid-year-rally
DTSTART:20260206T153000Z
DTEND:20260206T172000Z
END:VEVENT
END:VCALENDAR
