BEGIN:VCALENDAR
VERSION:2.0
PRODID:SchoolNow
CALSCALE:GREGORIAN
BEGIN:VEVENT
UID:fd694c02-128b-11f1-8c2e-0a58a9feac02
DTSTAMP:20260225T205308Z
SUMMARY:Education Support Professionals Week
URL;VALUE=URI:https://www.wenatcheeschools.org/district-calendars/calendar/
 8871138/education-support-professionals-week
DTSTART;VALUE=DATE:20260309
DTEND;VALUE=DATE:20260314
END:VEVENT
END:VCALENDAR
