BEGIN:VCALENDAR
VERSION:2.0
PRODID:SchoolNow
CALSCALE:GREGORIAN
BEGIN:VEVENT
UID:b4c34f16-3829-11f1-9a06-0ed94dec5247
DTSTAMP:20260422T081007Z
SUMMARY:PD Day (Student Early Release) - Principal/District Directed - Clas
 sified Training
URL;VALUE=URI:https://www.wenatcheeschools.org/district-calendars/calendar/
 8993279/pd-day-student-early-release-principal-district-directed-classifie
 d-training
DTSTART;VALUE=DATE:20261202
DTEND;VALUE=DATE:20261203
END:VEVENT
END:VCALENDAR
