BEGIN:VCALENDAR
VERSION:2.0
PRODID:SchoolNow
CALSCALE:GREGORIAN
BEGIN:VEVENT
UID:b4c35056-3829-11f1-acc4-0ed94dec5247
DTSTAMP:20260422T081007Z
SUMMARY:Teacher Conferences (No School)
URL;VALUE=URI:https://www.wenatcheeschools.org/district-calendars/calendar/
 8993280/teacher-conferences-no-school
DTSTART;VALUE=DATE:20270305
DTEND;VALUE=DATE:20270306
END:VEVENT
END:VCALENDAR
