BEGIN:VCALENDAR
VERSION:2.0
PRODID:SchoolNow
CALSCALE:GREGORIAN
BEGIN:VEVENT
UID:b4c35240-3829-11f1-b24b-0ed94dec5247
DTSTAMP:20260422T081007Z
SUMMARY:Martin Luther King Day (No School)
URL;VALUE=URI:https://www.wenatcheeschools.org/district-calendars/calendar/
 8993282/martin-luther-king-day-no-school
DTSTART;VALUE=DATE:20270118
DTEND;VALUE=DATE:20270119
END:VEVENT
END:VCALENDAR
