BEGIN:VCALENDAR
VERSION:2.0
PRODID:SchoolNow
CALSCALE:GREGORIAN
BEGIN:VEVENT
UID:b4c3548e-3829-11f1-a469-0ed94dec5247
DTSTAMP:20260422T081007Z
SUMMARY:Winter Break (No School)
URL;VALUE=URI:https://www.wenatcheeschools.org/district-calendars/calendar/
 8993284/winter-break-no-school
DTSTART;VALUE=DATE:20261221
DTEND;VALUE=DATE:20270102
END:VEVENT
END:VCALENDAR
