BEGIN:VCALENDAR
VERSION:2.0
PRODID:SchoolNow
CALSCALE:GREGORIAN
BEGIN:VEVENT
UID:b4c35808-3829-11f1-8993-0ed94dec5247
DTSTAMP:20260422T081007Z
SUMMARY:Presidents Day (No School)
URL;VALUE=URI:https://www.wenatcheeschools.org/district-calendars/calendar/
 8993287/presidents-day-no-school
DTSTART:20270215T150000Z
DTEND:20270215T160000Z
END:VEVENT
END:VCALENDAR
