BEGIN:VCALENDAR
VERSION:2.0
PRODID:SchoolNow
CALSCALE:GREGORIAN
BEGIN:VEVENT
UID:b4c35902-3829-11f1-8853-0ed94dec5247
DTSTAMP:20260422T141007Z
SUMMARY:Memorial Day (No School)
URL;VALUE=URI:https://www.wenatcheeschools.org/district-calendars/calendar/
 8993288/memorial-day-no-school
DTSTART;VALUE=DATE:20270531
DTEND;VALUE=DATE:20270601
END:VEVENT
END:VCALENDAR
