BEGIN:VCALENDAR
VERSION:2.0
PRODID:SchoolNow
CALSCALE:GREGORIAN
BEGIN:VEVENT
UID:b4c35bdc-3829-11f1-8f24-0ed94dec5247
DTSTAMP:20260422T081007Z
SUMMARY:Mid Winter Break (No School)
URL;VALUE=URI:https://www.wenatcheeschools.org/district-calendars/calendar/
 8993291/mid-winter-break-no-school
DTSTART;VALUE=DATE:20270211
DTEND;VALUE=DATE:20270217
END:VEVENT
END:VCALENDAR
