BEGIN:VCALENDAR
VERSION:2.0
PRODID:SchoolNow
CALSCALE:GREGORIAN
BEGIN:VEVENT
UID:b4c35e16-3829-11f1-bd52-0ed94dec5247
DTSTAMP:20260422T141007Z
SUMMARY:Snow Make-up Days (If Needed)
URL;VALUE=URI:https://www.wenatcheeschools.org/district-calendars/calendar/
 8993293/snow-make-up-days-if-needed
DTSTART;VALUE=DATE:20270614
DTEND;VALUE=DATE:20270616
END:VEVENT
END:VCALENDAR
