BEGIN:VCALENDAR
VERSION:2.0
PRODID:SchoolNow
CALSCALE:GREGORIAN
BEGIN:VEVENT
UID:b4c361fe-3829-11f1-8dcf-0ed94dec5247
DTSTAMP:20260422T141007Z
SUMMARY:Spring Break (No School)
URL;VALUE=URI:https://www.wenatcheeschools.org/district-calendars/calendar/
 8993297/spring-break-no-school
DTSTART;VALUE=DATE:20270405
DTEND;VALUE=DATE:20270410
END:VEVENT
END:VCALENDAR
