BEGIN:VCALENDAR
VERSION:2.0
PRODID:SchoolNow
CALSCALE:GREGORIAN
BEGIN:VEVENT
UID:450af3be-3b35-11eb-b6ca-121a039e8e71
DTSTAMP:20201210T221554Z
SUMMARY:Brian Cain Secondary Assembly #3
URL;VALUE=URI:https://www.wenatcheeschools.org/fms/calendar/2511182/brian-c
 ain-secondary-assembly-3
DTSTART:20210303T221400Z
DTEND:20210303T231400Z
END:VEVENT
END:VCALENDAR
