BEGIN:VCALENDAR
VERSION:2.0
PRODID:SchoolNow
CALSCALE:GREGORIAN
BEGIN:VEVENT
UID:4516bef4-cdb6-11e8-b4c2-12fc9aea9c82
DTSTAMP:20181012T010617Z
SUMMARY:Superintendent Search Community Forum
LOCATION:Wenatchee High School LGI Classroom
URL;VALUE=URI:https://www.wenatcheeschools.org/lc/calendar/1888682/superint
 endent-search-community-forum
DTSTART:20181024T003000Z
DTEND:20181024T013000Z
END:VEVENT
END:VCALENDAR
