BEGIN:VCALENDAR
VERSION:2.0
PRODID:SchoolNow
CALSCALE:GREGORIAN
BEGIN:VEVENT
UID:01b36a64-0ea6-11e9-bbff-0aefaac16a42
DTSTAMP:20190218T222408Z
SUMMARY:Superintendent Finalists Community Forum - Michael Musick Ph.D.
LOCATION:Wenatchee High School Commons
URL;VALUE=URI:https://www.wenatcheeschools.org/lc/calendar/1924370/superint
 endent-finalists-community-forum
DTSTART:20190219T233000Z
DTEND:20190220T010000Z
END:VEVENT
END:VCALENDAR
