BEGIN:VCALENDAR
VERSION:2.0
PRODID:SchoolNow
CALSCALE:GREGORIAN
BEGIN:VEVENT
UID:27341694-0ea6-11e9-b5d6-0aefaac16a42
DTSTAMP:20190220T163514Z
SUMMARY:Superintendent Finalists Community Forum- Shawn Woodward
LOCATION:Wenatchee High School Commons
URL;VALUE=URI:https://www.wenatcheeschools.org/lc/calendar/1924386/superint
 endent-finalists-community-forum-clone
DTSTART:20190220T233000Z
DTEND:20190221T010000Z
END:VEVENT
END:VCALENDAR
